BEGIN:VCALENDAR
VERSION:2.0
PRODID:-//Idip - ECPv6.15.20//NONSGML v1.0//EN
CALSCALE:GREGORIAN
METHOD:PUBLISH
X-WR-CALNAME:Idip
X-ORIGINAL-URL:https://idip.unistra.fr
X-WR-CALDESC:Évènements pour Idip
REFRESH-INTERVAL;VALUE=DURATION:PT1H
X-Robots-Tag:noindex
X-PUBLISHED-TTL:PT1H
BEGIN:VTIMEZONE
TZID:Europe/Paris
BEGIN:DAYLIGHT
TZOFFSETFROM:+0100
TZOFFSETTO:+0200
TZNAME:CEST
DTSTART:20190331T010000
END:DAYLIGHT
BEGIN:STANDARD
TZOFFSETFROM:+0200
TZOFFSETTO:+0100
TZNAME:CET
DTSTART:20191027T010000
END:STANDARD
BEGIN:DAYLIGHT
TZOFFSETFROM:+0100
TZOFFSETTO:+0200
TZNAME:CEST
DTSTART:20200329T010000
END:DAYLIGHT
BEGIN:STANDARD
TZOFFSETFROM:+0200
TZOFFSETTO:+0100
TZNAME:CET
DTSTART:20201025T010000
END:STANDARD
BEGIN:DAYLIGHT
TZOFFSETFROM:+0100
TZOFFSETTO:+0200
TZNAME:CEST
DTSTART:20210328T010000
END:DAYLIGHT
BEGIN:STANDARD
TZOFFSETFROM:+0200
TZOFFSETTO:+0100
TZNAME:CET
DTSTART:20211031T010000
END:STANDARD
END:VTIMEZONE
BEGIN:VEVENT
DTSTART;TZID=Europe/Paris:20200701T140000
DTEND;TZID=Europe/Paris:20200701T170000
DTSTAMP:20260421T044322
CREATED:20200612T064905Z
LAST-MODIFIED:20200612T064905Z
UID:5147-1593612000-1593622800@idip.unistra.fr
SUMMARY:Atelier : Scénariser son enseignement à distance
DESCRIPTION:es derniers mois\, les équipes pédagogiques ont été contraintes d’adapter leurs enseignements rapidement pour permettre aux étudiants de finir leur année dans les meilleures conditions. \nLa rentrée 2020-2021 sera inédite car certains enseignements vont être maintenus à distance. Comment s’y préparer en dépassant la simple transposition de son enseignement présentiel ?\nNous vous proposons un atelier pratique pour travailler sur la scénarisation de vos cours et vous appuyer sur les principes de l’ingénierie pédagogique pour la distance. Cette approche suppose de réorganiser et séquencer les contenus\, de concevoir des activités adaptées aux nouvelles modalités d’enseignement et de planifier les temps d’interaction avec les étudiants. Pour préparer votre rentrée\, choisissez un de vos cours et participez à l’atelier pour le scénariser ! \nLien vers l’inscription pour le 16/06 (complet) \nLien vers l’inscription pour le 17/06 (complet) \nLien vers l’inscription pour le 01/07\n \nLien vers l’atelier
URL:https://idip.unistra.fr/event/atelier-scenariser-son-enseignement-a-distance-2/
CATEGORIES:Atelier
END:VEVENT
BEGIN:VEVENT
DTSTART;TZID=Europe/Paris:20200702T140000
DTEND;TZID=Europe/Paris:20200702T160000
DTSTAMP:20260421T044322
CREATED:20200526T111006Z
LAST-MODIFIED:20200526T111006Z
UID:4869-1593698400-1593705600@idip.unistra.fr
SUMMARY:Utiliser et produire de la vidéo dans le cadre de son enseignement (visio\, capsules vidéos)
DESCRIPTION:Cet atelier présentera l’utilisation de 2 outils dans le cadre de la création de capsules vidéos pédagogiques pour vous permettre d’enrichir vos enseignements. Nous ferons également le tour des bonnes pratiques pour la conception de capsules vidéos.
URL:https://idip.unistra.fr/event/utiliser-et-produire-de-la-video-dans-le-cadre-de-son-enseignement-visio-capsules-videos/
LOCATION:https://moodle3.unistra.fr/course/view.php?id=13397
END:VEVENT
BEGIN:VEVENT
DTSTART;TZID=Europe/Paris:20200709T093000
DTEND;TZID=Europe/Paris:20200709T160000
DTSTAMP:20260421T044322
CREATED:20200526T111110Z
LAST-MODIFIED:20200526T111110Z
UID:4872-1594287000-1594310400@idip.unistra.fr
SUMMARY:Journée pédagogique d’accueil des nouveaux enseignants Unistra
DESCRIPTION:Cette journée sera l’occasion de présenter aux nouveaux enseignants et enseignants-chercheur de l’université de Strasbourg les principes de l’ingénierie pédagogique et de l’enseignement présentiel/hybride/comodale/à distance ainsi que les outils à leur disposition et l’accompagnement que nous pourrons leur offrir pendant l’été.
URL:https://idip.unistra.fr/event/journee-pedagogique-daccueil-des-nouveaux-enseignants-unistra/
END:VEVENT
END:VCALENDAR