BEGIN:VCALENDAR
VERSION:2.0
PRODID:-//Idip - ECPv6.15.20//NONSGML v1.0//EN
CALSCALE:GREGORIAN
METHOD:PUBLISH
X-WR-CALNAME:Idip
X-ORIGINAL-URL:https://idip.unistra.fr
X-WR-CALDESC:Évènements pour Idip
REFRESH-INTERVAL;VALUE=DURATION:PT1H
X-Robots-Tag:noindex
X-PUBLISHED-TTL:PT1H
BEGIN:VTIMEZONE
TZID:Europe/Paris
BEGIN:DAYLIGHT
TZOFFSETFROM:+0100
TZOFFSETTO:+0200
TZNAME:CEST
DTSTART:20190331T010000
END:DAYLIGHT
BEGIN:STANDARD
TZOFFSETFROM:+0200
TZOFFSETTO:+0100
TZNAME:CET
DTSTART:20191027T010000
END:STANDARD
BEGIN:DAYLIGHT
TZOFFSETFROM:+0100
TZOFFSETTO:+0200
TZNAME:CEST
DTSTART:20200329T010000
END:DAYLIGHT
BEGIN:STANDARD
TZOFFSETFROM:+0200
TZOFFSETTO:+0100
TZNAME:CET
DTSTART:20201025T010000
END:STANDARD
BEGIN:DAYLIGHT
TZOFFSETFROM:+0100
TZOFFSETTO:+0200
TZNAME:CEST
DTSTART:20210328T010000
END:DAYLIGHT
BEGIN:STANDARD
TZOFFSETFROM:+0200
TZOFFSETTO:+0100
TZNAME:CET
DTSTART:20211031T010000
END:STANDARD
END:VTIMEZONE
BEGIN:VEVENT
DTSTART;TZID=Europe/Paris:20200604T130000
DTEND;TZID=Europe/Paris:20200604T153000
DTSTAMP:20260420T220327
CREATED:20200526T091220Z
LAST-MODIFIED:20200526T091220Z
UID:4841-1591275600-1591284600@idip.unistra.fr
SUMMARY:Stammtisch : Faisons le point\, comment allez-vous ?
DESCRIPTION:Dans cette période de confinement pédagogique\, le bien-être et le lien social sont des préoccupations essentielles de chacun.\nAfin de limiter le sentiment d’isolement\, nous vous invitons à ce Stammtisch spécial “Blabla pédagogique”\, avec des temps d’échange en petits groupes pour permettre à chacun de s’exprimer librement.\nComment vivez-vous cette période ? Quelles sont vos préoccupations ?\nQuelles réussites et succès pédagogiques voulez-vous partager avec vos collègues ?\nQuel bilan faites-vous sur vos besoins en termes d’enseignement et d’interaction avec les étudiants et vos collègues ?\nVenez partager votre vécu\, soutenir et inspirer vos collègues.
URL:https://idip.unistra.fr/event/stammtisch-faisons-le-point-comment-allez-vous/
END:VEVENT
BEGIN:VEVENT
DTSTART;TZID=Europe/Paris:20200609T100000
DTEND;TZID=Europe/Paris:20200609T120000
DTSTAMP:20260420T220327
CREATED:20200526T102447Z
LAST-MODIFIED:20200526T102724Z
UID:4846-1591696800-1591704000@idip.unistra.fr
SUMMARY:Questions/réponses et partage de pratiques sur différentes thématiques : l’hybridation\, l’accompagnement des étudiants\, les évaluations\, etc.)
DESCRIPTION:Nous vous proposons des moments d’échange pour poser vos questions\, demander conseil\, partager vos expériences et vos idées\, vous entraider  afin de préparer au mieux cette rentrée 2020-21 qui sera bien particulière.\nCes séances seront animées par l’équipe du projet Idex EAD en collaboration avec l’Idip.
URL:https://idip.unistra.fr/event/questions-reponses-et-partage-de-pratiques-sur-differentes-thematiques-lhybridation-laccompagnement-des-etudiants-les-evaluations-etc/
LOCATION:https://moodle3.unistra.fr/course/view.php?id=13397
END:VEVENT
BEGIN:VEVENT
DTSTART;TZID=Europe/Paris:20200616T090000
DTEND;TZID=Europe/Paris:20200616T120000
DTSTAMP:20260420T220327
CREATED:20200526T102932Z
LAST-MODIFIED:20200526T102932Z
UID:4849-1592298000-1592308800@idip.unistra.fr
SUMMARY:Scénariser son enseignement à distance
DESCRIPTION:Ces derniers mois\, les équipes pédagogiques ont été contraintes d’adapter leurs enseignements rapidement pour permettre aux étudiants de finir leur année dans les meilleures conditions. \nLa rentrée 2020-2021 sera inédite car certains enseignements vont être maintenus à distance. Comment s’y préparer en dépassant la simple transposition de son enseignement présentiel ? \nNous vous proposons un atelier pratique pour travailler sur la scénarisation de vos cours et vous appuyer sur les principes de l’ingénierie pédagogique pour la distance. Cette approche suppose de réorganiser et séquencer les contenus\, de concevoir des activités adaptées aux nouvelles modalités d’enseignement et de planifier les temps d’interaction avec les étudiants. \nPour préparer votre rentrée\, choisissez un de vos cours et participez à l’atelier pour le scénariser !
URL:https://idip.unistra.fr/event/scenariser-son-enseignement-a-distance/
LOCATION:https://moodle3.unistra.fr/course/view.php?id=13397
END:VEVENT
BEGIN:VEVENT
DTSTART;TZID=Europe/Paris:20200616T140000
DTEND;TZID=Europe/Paris:20200616T160000
DTSTAMP:20260420T220327
CREATED:20200612T064340Z
LAST-MODIFIED:20200612T064340Z
UID:5139-1592316000-1592323200@idip.unistra.fr
SUMMARY:Séances d’échange d’expérience proposées par l’équipe du projet Idex EAD
DESCRIPTION:Pratiques et problématiques dans l’enseignement distanciel\nNous vous proposons des moments d’échange pour poser vos questions\, demander conseil\, partager vos expériences et vos idées\, vous entraider afin de préparer au mieux cette rentrée 2020-21 qui sera bien particulière.\nCes séances seront animées par l’équipe du projet Idex EAD en collaboration avec l’Idip. \nPas d’inscription nécessaire \nPosez vos questions à l’avance \nLien vers les séances d’échange\n \nLire les notes partagées des séances
URL:https://idip.unistra.fr/event/seances-dechange-dexperience-proposees-par-lequipe-du-projet-idex-ead/
END:VEVENT
BEGIN:VEVENT
DTSTART;TZID=Europe/Paris:20200617T090000
DTEND;TZID=Europe/Paris:20200617T120000
DTSTAMP:20260420T220327
CREATED:20200612T064742Z
LAST-MODIFIED:20200612T064742Z
UID:5145-1592384400-1592395200@idip.unistra.fr
SUMMARY:Atelier : Scénariser son enseignement à distance
DESCRIPTION:Ces derniers mois\, les équipes pédagogiques ont été contraintes d’adapter leurs enseignements rapidement pour permettre aux étudiants de finir leur année dans les meilleures conditions. \nLa rentrée 2020-2021 sera inédite car certains enseignements vont être maintenus à distance. Comment s’y préparer en dépassant la simple transposition de son enseignement présentiel ?\nNous vous proposons un atelier pratique pour travailler sur la scénarisation de vos cours et vous appuyer sur les principes de l’ingénierie pédagogique pour la distance. Cette approche suppose de réorganiser et séquencer les contenus\, de concevoir des activités adaptées aux nouvelles modalités d’enseignement et de planifier les temps d’interaction avec les étudiants. Pour préparer votre rentrée\, choisissez un de vos cours et participez à l’atelier pour le scénariser ! \nLien vers l’inscription pour le 16/06 (complet) \nLien vers l’inscription pour le 17/06 (complet) \nLien vers l’inscription pour le 01/07\n \nLien vers l’atelier
URL:https://idip.unistra.fr/event/atelier-scenariser-son-enseignement-a-distance/
CATEGORIES:Atelier
END:VEVENT
BEGIN:VEVENT
DTSTART;TZID=Europe/Paris:20200618T090000
DTEND;TZID=Europe/Paris:20200618T120000
DTSTAMP:20260420T220327
CREATED:20200526T110318Z
LAST-MODIFIED:20200526T110318Z
UID:4855-1592470800-1592481600@idip.unistra.fr
SUMMARY:Concevoir et animer son enseignement par classe inversée
DESCRIPTION:Cet atelier vise à expérimenter et expliquer ce qu’est une classe inversée\, les principes généraux et les conditions à remplir pour que les étudiants en tirent profit pour leurs apprentissages. Puis\, nous pourrons concevoir ensemble un projet de classe inversée dans le cadre d’un enseignement.
URL:https://idip.unistra.fr/event/concevoir-et-animer-son-enseignement-par-classe-inversee/
LOCATION:https://moodle3.unistra.fr/course/view.php?id=13397
END:VEVENT
BEGIN:VEVENT
DTSTART;TZID=Europe/Paris:20200622T140000
DTEND;TZID=Europe/Paris:20200622T163000
DTSTAMP:20260420T220327
CREATED:20200526T110450Z
LAST-MODIFIED:20200526T110450Z
UID:4858-1592834400-1592843400@idip.unistra.fr
SUMMARY:Encadrer et accompagner les apprentissages des étudiants à distance
DESCRIPTION:Cet atelier permettra de mettre en lumière les différences entre le présentiel et le distanciel en matière d’encadrement et d’accompagnement des apprentissages.\nComme toujours\, cet atelier sera enrichi par vos questions et vos retours d’expériences.
URL:https://idip.unistra.fr/event/encadrer-et-accompagner-les-apprentissages-des-etudiants-a-distance/
LOCATION:https://moodle3.unistra.fr/course/view.php?id=13397
END:VEVENT
BEGIN:VEVENT
DTSTART;TZID=Europe/Paris:20200623T100000
DTEND;TZID=Europe/Paris:20200623T120000
DTSTAMP:20260420T220327
CREATED:20200612T064507Z
LAST-MODIFIED:20200612T064507Z
UID:5141-1592906400-1592913600@idip.unistra.fr
SUMMARY:Séances d’échange d’expérience proposées par l’équipe du projet Idex EAD
DESCRIPTION:L’évaluation\, de la conception aux corrections\nNous vous proposons des moments d’échange pour poser vos questions\, demander conseil\, partager vos expériences et vos idées\, vous entraider afin de préparer au mieux cette rentrée 2020-21 qui sera bien particulière.\nCes séances seront animées par l’équipe du projet Idex EAD en collaboration avec l’Idip. \nPas d’inscription nécessaire \nPosez vos questions à l’avance \nLien vers les séances d’échange\n \nLire les notes partagées des séances
URL:https://idip.unistra.fr/event/seances-dechange-dexperience-proposees-par-lequipe-du-projet-idex-ead-2/
END:VEVENT
BEGIN:VEVENT
DTSTART;TZID=Europe/Paris:20200623T140000
DTEND;TZID=Europe/Paris:20200623T160000
DTSTAMP:20260420T220327
CREATED:20200526T110157Z
LAST-MODIFIED:20200526T110157Z
UID:4852-1592920800-1592928000@idip.unistra.fr
SUMMARY:Produire des supports pédagogiques
DESCRIPTION:Cet atelier proposera dans un premier temps un espace de cours en ligne regroupant des exemples d’utilisation\, d’outils de création de ressources pédagogiques (création graphique et création de ressources dynamiques). Puis\, une permanence sera organisée afin de répondre aux éventuelles questions. \nOuverture le 16 juin 2020.
URL:https://idip.unistra.fr/event/produire-des-supports-pedagogiques/
LOCATION:https://moodle3.unistra.fr/course/view.php?id=13397
END:VEVENT
BEGIN:VEVENT
DTSTART;TZID=Europe/Paris:20200624T093000
DTEND;TZID=Europe/Paris:20200624T120000
DTSTAMP:20260420T220327
CREATED:20200612T065150Z
LAST-MODIFIED:20200612T065150Z
UID:5151-1592991000-1593000000@idip.unistra.fr
SUMMARY:Encadrer et accompagner les apprentissages des étudiants à distance
DESCRIPTION:Cet atelier permettra de mettre en lumière les différences entre le présentiel et le distanciel en matière d’encadrement et d’accompagnement des apprentissages.\nComme toujours\, cet atelier sera enrichi par vos questions et vos retours d’expériences. \nLien vers l’inscription pour le 22/06 (complet)\nLien vers l’inscription pour le 24/06 (nouveau !)\nLien vers l’atelier
URL:https://idip.unistra.fr/event/encadrer-et-accompagner-les-apprentissages-des-etudiants-a-distance-2/
CATEGORIES:Atelier
END:VEVENT
BEGIN:VEVENT
DTSTART;TZID=Europe/Paris:20200625T100000
DTEND;TZID=Europe/Paris:20200625T120000
DTSTAMP:20260420T220327
CREATED:20200526T110626Z
LAST-MODIFIED:20200526T110626Z
UID:4861-1593079200-1593086400@idip.unistra.fr
SUMMARY:Développer l’interactivité et la participation des étudiants
DESCRIPTION:Cet atelier présentera une sélection d’outils numériques visant à développer l’interactivité et le travail collaboratif dans vos cours en ligne\, et à mesurer la compréhension du cours pour vous permettre de remédier aux incompréhensions des étudiants.
URL:https://idip.unistra.fr/event/developper-linteractivite-et-la-participation-des-etudiants/
LOCATION:https://moodle3.unistra.fr/course/view.php?id=13397
END:VEVENT
BEGIN:VEVENT
DTSTART;TZID=Europe/Paris:20200625T140000
DTEND;TZID=Europe/Paris:20200625T170000
DTSTAMP:20260420T220327
CREATED:20200612T065053Z
LAST-MODIFIED:20200612T065053Z
UID:5149-1593093600-1593104400@idip.unistra.fr
SUMMARY:Concevoir et animer son enseignement par classe inversée
DESCRIPTION:Cet atelier vise à expérimenter et expliquer ce qu’est une classe inversée\, les principes généraux et les conditions à remplir pour que les étudiants en tirent profit pour leurs apprentissages. Puis\, nous pourrons concevoir ensemble un projet de classe inversée dans le cadre d’un enseignement. \nLien vers l’inscription pour le 18/06 (complet) \nLien vers l’inscription pour le 25/06 \nLien vers l’atelier
URL:https://idip.unistra.fr/event/concevoir-et-animer-son-enseignement-par-classe-inversee-2/
CATEGORIES:Atelier
END:VEVENT
BEGIN:VEVENT
DTSTART;TZID=Europe/Paris:20200626T090000
DTEND;TZID=Europe/Paris:20200626T120000
DTSTAMP:20260420T220327
CREATED:20200526T110745Z
LAST-MODIFIED:20200526T110745Z
UID:4864-1593162000-1593172800@idip.unistra.fr
SUMMARY:Utiliser les ressources éducatives libres dans ses enseignements (proposé par l’Université Ouverte des humanités)
DESCRIPTION:De nombreuses ressources pédagogiques et documentaires de qualité existent\, que nous pouvons utiliser librement dans nos enseignements. Elles nous permettent d’enrichir un cours en présence\, de compléter un chapitre\, d’alimenter une classe inversée par exemple. Mais nous ne savons pas toujours les repérer ni comment en tirer parti dans nos pratiques pédagogiques. \nL’objectif de l’atelier sera de vous montrer l’intérêt et l’usage des ressources éducatives libres pour vos enseignements. À partir des ressources issues notamment des portails des Universités numériques thématiques (UNT)\, vous apprendrez à chercher\, trouver et utiliser des ressources numériques pour dynamiser votre pédagogie. \nCet atelier est proposé par l’UOH en collaboration avec l’Idip.
URL:https://idip.unistra.fr/event/utiliser-les-ressources-educatives-libres-dans-ses-enseignements-propose-par-luniversite-ouverte-des-humanites/
LOCATION:https://moodle3.unistra.fr/course/view.php?id=13397
END:VEVENT
BEGIN:VEVENT
DTSTART;TZID=Europe/Paris:20200629T090000
DTEND;TZID=Europe/Paris:20200629T170000
DTSTAMP:20260420T220327
CREATED:20200526T110838Z
LAST-MODIFIED:20200612T092616Z
UID:4867-1593421200-1593450000@idip.unistra.fr
SUMMARY:J'Idip 2020
DESCRIPTION:Enseigner dans des contextes en mouvement : maintenir et repenser le lien et les pratiques.  \nCette journée sera l’occasion d’échanger sur la manière dont nous nous adaptons aux contextes changeants et aux situations d’urgence. \nUne table ronde permettra d’aborder comment le métier d’enseignant et d’enseignant-chercheur est interpelé et transformé dans des contextes de changement. Des ateliers seront l’occasion de revenir sur ces expériences et de se projeter vers l’année prochaine. L’habituel marché pédagogique pourra vous inspirer et alimenter vos pratiques en vous faisant découvrir des expérimentations et innovations menées par des collègues à Strasbourg. \nVous pouvez à présent vous inscrire à la journée et consulter le programme prévisionnel.
URL:https://idip.unistra.fr/event/jidip/
LOCATION:https://moodle3.unistra.fr/login/index.php
END:VEVENT
BEGIN:VEVENT
DTSTART;TZID=Europe/Paris:20200630T100000
DTEND;TZID=Europe/Paris:20200630T120000
DTSTAMP:20260420T220327
CREATED:20200612T064619Z
LAST-MODIFIED:20200612T064619Z
UID:5143-1593511200-1593518400@idip.unistra.fr
SUMMARY:Séances d’échange d’expérience proposées par l’équipe du projet Idex EAD
DESCRIPTION:La vidéo\, outil pour enseigner et apprendre\nNous vous proposons des moments d’échange pour poser vos questions\, demander conseil\, partager vos expériences et vos idées\, vous entraider afin de préparer au mieux cette rentrée 2020-21 qui sera bien particulière.\nCes séances seront animées par l’équipe du projet Idex EAD en collaboration avec l’Idip. \nPas d’inscription nécessaire \nPosez vos questions à l’avance \nLien vers les séances d’échange\n \nLire les notes partagées des séances
URL:https://idip.unistra.fr/event/seances-dechange-dexperience-proposees-par-lequipe-du-projet-idex-ead-3/
END:VEVENT
END:VCALENDAR