BEGIN:VCALENDAR
VERSION:2.0
PRODID:-//Idip - ECPv6.15.20//NONSGML v1.0//EN
CALSCALE:GREGORIAN
METHOD:PUBLISH
X-WR-CALNAME:Idip
X-ORIGINAL-URL:https://idip.unistra.fr
X-WR-CALDESC:Évènements pour Idip
REFRESH-INTERVAL;VALUE=DURATION:PT1H
X-Robots-Tag:noindex
X-PUBLISHED-TTL:PT1H
BEGIN:VTIMEZONE
TZID:Europe/Paris
BEGIN:DAYLIGHT
TZOFFSETFROM:+0100
TZOFFSETTO:+0200
TZNAME:CEST
DTSTART:20200329T010000
END:DAYLIGHT
BEGIN:STANDARD
TZOFFSETFROM:+0200
TZOFFSETTO:+0100
TZNAME:CET
DTSTART:20201025T010000
END:STANDARD
BEGIN:DAYLIGHT
TZOFFSETFROM:+0100
TZOFFSETTO:+0200
TZNAME:CEST
DTSTART:20210328T010000
END:DAYLIGHT
BEGIN:STANDARD
TZOFFSETFROM:+0200
TZOFFSETTO:+0100
TZNAME:CET
DTSTART:20211031T010000
END:STANDARD
BEGIN:DAYLIGHT
TZOFFSETFROM:+0100
TZOFFSETTO:+0200
TZNAME:CEST
DTSTART:20220327T010000
END:DAYLIGHT
BEGIN:STANDARD
TZOFFSETFROM:+0200
TZOFFSETTO:+0100
TZNAME:CET
DTSTART:20221030T010000
END:STANDARD
END:VTIMEZONE
BEGIN:VEVENT
DTSTART;TZID=Europe/Paris:20210204T090000
DTEND;TZID=Europe/Paris:20210204T123000
DTSTAMP:20260424T014236
CREATED:20201216T101807Z
LAST-MODIFIED:20201216T101807Z
UID:12913-1612429200-1612441800@idip.unistra.fr
SUMMARY:Atelier A4 : Evaluer les apprentissages des étudiants
DESCRIPTION:
URL:https://idip.unistra.fr/event/atelier-a4-evaluer-les-apprentissages-des-etudiants-2/
LOCATION:Idip\, 15 rue du Maréchal Lefebvre\, STRASBOURG\, 67000\, France
END:VEVENT
END:VCALENDAR