BEGIN:VCALENDAR
VERSION:2.0
PRODID:-//Idip - ECPv6.15.20//NONSGML v1.0//EN
CALSCALE:GREGORIAN
METHOD:PUBLISH
X-WR-CALNAME:Idip
X-ORIGINAL-URL:https://idip.unistra.fr
X-WR-CALDESC:Évènements pour Idip
REFRESH-INTERVAL;VALUE=DURATION:PT1H
X-Robots-Tag:noindex
X-PUBLISHED-TTL:PT1H
BEGIN:VTIMEZONE
TZID:Europe/Paris
BEGIN:DAYLIGHT
TZOFFSETFROM:+0100
TZOFFSETTO:+0200
TZNAME:CEST
DTSTART:20190331T010000
END:DAYLIGHT
BEGIN:STANDARD
TZOFFSETFROM:+0200
TZOFFSETTO:+0100
TZNAME:CET
DTSTART:20191027T010000
END:STANDARD
BEGIN:DAYLIGHT
TZOFFSETFROM:+0100
TZOFFSETTO:+0200
TZNAME:CEST
DTSTART:20200329T010000
END:DAYLIGHT
BEGIN:STANDARD
TZOFFSETFROM:+0200
TZOFFSETTO:+0100
TZNAME:CET
DTSTART:20201025T010000
END:STANDARD
BEGIN:DAYLIGHT
TZOFFSETFROM:+0100
TZOFFSETTO:+0200
TZNAME:CEST
DTSTART:20210328T010000
END:DAYLIGHT
BEGIN:STANDARD
TZOFFSETFROM:+0200
TZOFFSETTO:+0100
TZNAME:CET
DTSTART:20211031T010000
END:STANDARD
END:VTIMEZONE
BEGIN:VEVENT
DTSTART;TZID=Europe/Paris:20201127T090000
DTEND;TZID=Europe/Paris:20201127T120000
DTSTAMP:20260423T152541
CREATED:20200608T134346Z
LAST-MODIFIED:20200608T134346Z
UID:5077-1606467600-1606478400@idip.unistra.fr
SUMMARY:Utiliser et produire de la vidéo dans le cadre de son enseignement
DESCRIPTION:Cet atelier présentera l’utilisation de 2 outils dans le cadre de la création de capsules vidéos pédagogiques pour vous permettre d’enrichir vos enseignements. Nous ferons également le tour des bonnes pratiques pour la conception de capsules vidéos.
URL:https://idip.unistra.fr/event/utiliser-et-produire-de-la-video-dans-le-cadre-de-son-enseignement/
CATEGORIES:Atelier
END:VEVENT
BEGIN:VEVENT
DTSTART;TZID=Europe/Paris:20201127T090000
DTEND;TZID=Europe/Paris:20201127T123000
DTSTAMP:20260423T152541
CREATED:20200608T125827Z
LAST-MODIFIED:20200608T125827Z
UID:5050-1606467600-1606480200@idip.unistra.fr
SUMMARY:Atelier H2 : Construire une grille d’évauation
DESCRIPTION:Quel enseignant ne s’est pas senti démuni au moment d’évaluer le travail de ses étudiants ? Quels critères prendre en considération ? Quelle importance leur accorder ? Comment tenir compte des différents niveaux de performance entre l’excellent et le juste suffisant ?L’élaboration d’une grille d’évaluation permet de répondre à ces questions et de réduire la subjectivité́ dans l’évaluation. Cet atelier pratique a pour objectif de construire\, pas à pas et à l’aide d’exemples concrets\, une grille d’évaluation qui peut être immédiatement utilisée pour évaluer les travaux des étudiants.
URL:https://idip.unistra.fr/event/atelier-h2-construire-une-grille-devauation/
LOCATION:Idip\, 15 rue du Maréchal Lefebvre\, STRASBOURG\, 67000\, France
CATEGORIES:Atelier
END:VEVENT
END:VCALENDAR