BEGIN:VCALENDAR
VERSION:2.0
PRODID:-//Idip - ECPv6.15.20//NONSGML v1.0//EN
CALSCALE:GREGORIAN
METHOD:PUBLISH
X-WR-CALNAME:Idip
X-ORIGINAL-URL:https://idip.unistra.fr
X-WR-CALDESC:Évènements pour Idip
REFRESH-INTERVAL;VALUE=DURATION:PT1H
X-Robots-Tag:noindex
X-PUBLISHED-TTL:PT1H
BEGIN:VTIMEZONE
TZID:Europe/Paris
BEGIN:DAYLIGHT
TZOFFSETFROM:+0100
TZOFFSETTO:+0200
TZNAME:CEST
DTSTART:20190331T010000
END:DAYLIGHT
BEGIN:STANDARD
TZOFFSETFROM:+0200
TZOFFSETTO:+0100
TZNAME:CET
DTSTART:20191027T010000
END:STANDARD
BEGIN:DAYLIGHT
TZOFFSETFROM:+0100
TZOFFSETTO:+0200
TZNAME:CEST
DTSTART:20200329T010000
END:DAYLIGHT
BEGIN:STANDARD
TZOFFSETFROM:+0200
TZOFFSETTO:+0100
TZNAME:CET
DTSTART:20201025T010000
END:STANDARD
BEGIN:DAYLIGHT
TZOFFSETFROM:+0100
TZOFFSETTO:+0200
TZNAME:CEST
DTSTART:20210328T010000
END:DAYLIGHT
BEGIN:STANDARD
TZOFFSETFROM:+0200
TZOFFSETTO:+0100
TZNAME:CET
DTSTART:20211031T010000
END:STANDARD
END:VTIMEZONE
BEGIN:VEVENT
DTSTART;TZID=Europe/Paris:20201126T090000
DTEND;TZID=Europe/Paris:20201126T110000
DTSTAMP:20260424T011500
CREATED:20200608T135315Z
LAST-MODIFIED:20200608T135315Z
UID:5087-1606381200-1606388400@idip.unistra.fr
SUMMARY:Concevoir\, paramétrer et évaluer les devoirs en ligne
DESCRIPTION:Dans cet atelier\, nous verrons comment mettre en place un dépôt de copies en ligne\, les différents réglages possibles en fonction de vos besoins et nous consacrerons une partie de la séance pour connaitre comment évaluer\, commenter et noter les copies des étudiants. Pré-requis : activation du compte Unistra
URL:https://idip.unistra.fr/event/concevoir-parametrer-et-evaluer-les-devoirs-en-ligne/
CATEGORIES:Atelier
END:VEVENT
BEGIN:VEVENT
DTSTART;TZID=Europe/Paris:20201126T090000
DTEND;TZID=Europe/Paris:20201126T123000
DTSTAMP:20260424T011500
CREATED:20200608T125735Z
LAST-MODIFIED:20200608T125735Z
UID:5048-1606381200-1606393800@idip.unistra.fr
SUMMARY:Atelier H1 : Noter avec pertinence et équité les travaux des étudiants
DESCRIPTION:Cet atelier commence par la fin de la démarche d’évaluation\, à savoir la notation. Il propose de faire une distinction entre l’évaluation des prestations des étudiants\, soit la mesure des effets attendus au terme de l’enseignement (compétences et degré de maîtrise) et l’attribution de la note. Nous présenterons différentes pratiques de mesure et de notation\, entre l’évaluation critériée et l’évaluation normative. Nous discuterons également des biais les plus récurrents dans l’évaluation et ce que l’on peut faire pour réduire leurs effets au moment d’attribuer la note.
URL:https://idip.unistra.fr/event/atelier-h1-noter-avec-pertinence-et-equite-les-travaux-des-etudiants/
LOCATION:Idip\, 15 rue du Maréchal Lefebvre\, STRASBOURG\, 67000\, France
CATEGORIES:Atelier
END:VEVENT
END:VCALENDAR