BEGIN:VCALENDAR
VERSION:2.0
PRODID:-//Idip - ECPv6.15.20//NONSGML v1.0//EN
CALSCALE:GREGORIAN
METHOD:PUBLISH
X-WR-CALNAME:Idip
X-ORIGINAL-URL:https://idip.unistra.fr
X-WR-CALDESC:Évènements pour Idip
REFRESH-INTERVAL;VALUE=DURATION:PT1H
X-Robots-Tag:noindex
X-PUBLISHED-TTL:PT1H
BEGIN:VTIMEZONE
TZID:Europe/Paris
BEGIN:DAYLIGHT
TZOFFSETFROM:+0100
TZOFFSETTO:+0200
TZNAME:CEST
DTSTART:20190331T010000
END:DAYLIGHT
BEGIN:STANDARD
TZOFFSETFROM:+0200
TZOFFSETTO:+0100
TZNAME:CET
DTSTART:20191027T010000
END:STANDARD
BEGIN:DAYLIGHT
TZOFFSETFROM:+0100
TZOFFSETTO:+0200
TZNAME:CEST
DTSTART:20200329T010000
END:DAYLIGHT
BEGIN:STANDARD
TZOFFSETFROM:+0200
TZOFFSETTO:+0100
TZNAME:CET
DTSTART:20201025T010000
END:STANDARD
BEGIN:DAYLIGHT
TZOFFSETFROM:+0100
TZOFFSETTO:+0200
TZNAME:CEST
DTSTART:20210328T010000
END:DAYLIGHT
BEGIN:STANDARD
TZOFFSETFROM:+0200
TZOFFSETTO:+0100
TZNAME:CET
DTSTART:20211031T010000
END:STANDARD
END:VTIMEZONE
BEGIN:VEVENT
DTSTART;TZID=Europe/Paris:20201124T090000
DTEND;TZID=Europe/Paris:20201124T123000
DTSTAMP:20260425T055930
CREATED:20200608T124505Z
LAST-MODIFIED:20200608T124505Z
UID:5038-1606208400-1606221000@idip.unistra.fr
SUMMARY:Atelier E3 : Aménager et utiliser les espaces d’apprentissages / Apprivoise ton espace
DESCRIPTION:Comment s’approprier les espaces existants de manière à soutenir les apprentissages ? Quel est le degré de liberté pédagogique d’un·e enseignant·e ?​Ces questions sont souvent accentuées par plusieurs contraintes liées notamment au choix des lieux et à leur disponibilité\, à la taille des groupes et aux séances de cours\, à la possibilité d’aménager le contenu ou les activités du cours\, sans oublier le niveau d’aisance des enseignant·e·s dans le choix de formules pédagogiques ou l’animation d’un travail en groupe. La démarche « Apprivoise ton espace » s’appuie sur un outil graphique questionnant\, de manière pragmatique\, les pratiques et les intentions pédagogiques de l’enseignant·e. Nous proposons un instrument de médiation pour soutenir concrètement le dialogue et l’accompagnement des enseignant·es par un·e conseiller·ère pédagogique. L’outil se base sur une vision et un vocabulaire partagés autour de dimensions à prendre en compte pour définir le design spatial\, en ayant pour objectif de favoriser et soutenir les apprentissages.​
URL:https://idip.unistra.fr/event/atelier-e3-amenager-et-utiliser-les-espaces-dapprentissages-apprivoise-ton-espace/
LOCATION:Idip\, 15 rue du Maréchal Lefebvre\, STRASBOURG\, 67000\, France
CATEGORIES:Atelier
END:VEVENT
BEGIN:VEVENT
DTSTART;TZID=Europe/Paris:20201124T140000
DTEND;TZID=Europe/Paris:20201124T173000
DTSTAMP:20260425T055930
CREATED:20200608T124622Z
LAST-MODIFIED:20200608T124622Z
UID:5040-1606226400-1606239000@idip.unistra.fr
SUMMARY:Atelier E4 : Aménager et utiliser les espaces d’apprentissages / Crée ton espace
DESCRIPTION:Cet atelier est principalement destiné aux personnes ayant un projet de création ou de rénovation d’un espace d’apprentissage formel ou informel afin de créer ce qu’on appelle un nouvel espace d’apprentissage (NEA).Ces nouveaux espaces d’apprentissage dépassent bien souvent le périmètre de la « salle de cours » pour mieux répondre à une cohérence entre les apprentissages et l’espace dans lesquels ils sont transmis. Ils sont une conséquence de l’évolution des attentes et pratiques des étudiants et réinterrogent à la fois l’espace et les temps d’apprentissage. L’objectif final sera de concevoir un lieu « capacitant » (Paquelin\, 2015) à savoir « un environnement qui permet aux personnes de développer de nouvelles compétences et connaissances\, d’élargir leurs possibilités d’action\, leur degré de contrôle sur leur tâche et sur la manière dont ils la réalisent\, c’est-à-dire leur autonomie » (Falzon\, 2006). Intégrant des enjeux de socialisation\, d’expérimentation et/ou de création\, facilitant le travail individuel et/ou collaboratif\, avec ou sans technologie numérique\, ces espaces ont pour ambition d’associer le design spatial au design pédagogique respectant un principe d’alignement pédagogique spatial adapté (D. Radcliffe\, H. Wilson\, D. Powell\, B. Tibbets\, 2009).En se formant à une méthodologie de conception proposée par le projet « Archiclasse » basée sur la co-construction et divisée en 4 temps (Projeter\, Structurer\, Organiser\, Détailler)\, les apprenants construiront une maquette de leur nouvel espace avec un outil d’aide à la conception des espaces d’apprentissage.
URL:https://idip.unistra.fr/event/atelier-e4-amenager-et-utiliser-les-espaces-dapprentissages-cree-ton-espace/
LOCATION:Idip\, 15 rue du Maréchal Lefebvre\, STRASBOURG\, 67000\, France
CATEGORIES:Atelier
END:VEVENT
END:VCALENDAR