BEGIN:VCALENDAR
VERSION:2.0
PRODID:-//Idip - ECPv6.15.20//NONSGML v1.0//EN
CALSCALE:GREGORIAN
METHOD:PUBLISH
X-WR-CALNAME:Idip
X-ORIGINAL-URL:https://idip.unistra.fr
X-WR-CALDESC:Évènements pour Idip
REFRESH-INTERVAL;VALUE=DURATION:PT1H
X-Robots-Tag:noindex
X-PUBLISHED-TTL:PT1H
BEGIN:VTIMEZONE
TZID:Europe/Paris
BEGIN:DAYLIGHT
TZOFFSETFROM:+0100
TZOFFSETTO:+0200
TZNAME:CEST
DTSTART:20190331T010000
END:DAYLIGHT
BEGIN:STANDARD
TZOFFSETFROM:+0200
TZOFFSETTO:+0100
TZNAME:CET
DTSTART:20191027T010000
END:STANDARD
BEGIN:DAYLIGHT
TZOFFSETFROM:+0100
TZOFFSETTO:+0200
TZNAME:CEST
DTSTART:20200329T010000
END:DAYLIGHT
BEGIN:STANDARD
TZOFFSETFROM:+0200
TZOFFSETTO:+0100
TZNAME:CET
DTSTART:20201025T010000
END:STANDARD
BEGIN:DAYLIGHT
TZOFFSETFROM:+0100
TZOFFSETTO:+0200
TZNAME:CEST
DTSTART:20210328T010000
END:DAYLIGHT
BEGIN:STANDARD
TZOFFSETFROM:+0200
TZOFFSETTO:+0100
TZNAME:CET
DTSTART:20211031T010000
END:STANDARD
END:VTIMEZONE
BEGIN:VEVENT
DTSTART;TZID=Europe/Paris:20201118T090000
DTEND;TZID=Europe/Paris:20201118T123000
DTSTAMP:20260425T014544
CREATED:20200608T123511Z
LAST-MODIFIED:20200608T123511Z
UID:5028-1605690000-1605702600@idip.unistra.fr
SUMMARY:Atelier D3 : Stimuler la participation des étudiants
DESCRIPTION:Les enseignants universitaires sont confrontés à des effectifs plutôt conséquents. On a coutume de dire que seul l’enseignement magistral est possible dans de telles conditions et que le corollaire est la passivité́\, voire l’absentéisme des étudiants avec un appauvrissement de leurs apprentissages. Cet atelier commencera par discuter les raisons qui vous incitent à développer des interactions avec vos étudiants. Quels en sont les bénéfices pour leurs apprentissages ? Puis l’atelier proposera quelques activités concrètes pour stimuler la participation des étudiants.
URL:https://idip.unistra.fr/event/atelier-d3-stimuler-la-participation-des-etudiants/
LOCATION:Idip\, 15 rue du Maréchal Lefebvre\, STRASBOURG\, 67000\, France
CATEGORIES:Atelier
END:VEVENT
END:VCALENDAR