BEGIN:VCALENDAR
VERSION:2.0
PRODID:-//Idip - ECPv6.15.20//NONSGML v1.0//EN
CALSCALE:GREGORIAN
METHOD:PUBLISH
X-WR-CALNAME:Idip
X-ORIGINAL-URL:https://idip.unistra.fr
X-WR-CALDESC:Évènements pour Idip
REFRESH-INTERVAL;VALUE=DURATION:PT1H
X-Robots-Tag:noindex
X-PUBLISHED-TTL:PT1H
BEGIN:VTIMEZONE
TZID:Europe/Paris
BEGIN:DAYLIGHT
TZOFFSETFROM:+0100
TZOFFSETTO:+0200
TZNAME:CEST
DTSTART:20190331T010000
END:DAYLIGHT
BEGIN:STANDARD
TZOFFSETFROM:+0200
TZOFFSETTO:+0100
TZNAME:CET
DTSTART:20191027T010000
END:STANDARD
BEGIN:DAYLIGHT
TZOFFSETFROM:+0100
TZOFFSETTO:+0200
TZNAME:CEST
DTSTART:20200329T010000
END:DAYLIGHT
BEGIN:STANDARD
TZOFFSETFROM:+0200
TZOFFSETTO:+0100
TZNAME:CET
DTSTART:20201025T010000
END:STANDARD
BEGIN:DAYLIGHT
TZOFFSETFROM:+0100
TZOFFSETTO:+0200
TZNAME:CEST
DTSTART:20210328T010000
END:DAYLIGHT
BEGIN:STANDARD
TZOFFSETFROM:+0200
TZOFFSETTO:+0100
TZNAME:CET
DTSTART:20211031T010000
END:STANDARD
END:VTIMEZONE
BEGIN:VEVENT
DTSTART;TZID=Europe/Paris:20201103T090000
DTEND;TZID=Europe/Paris:20201103T123000
DTSTAMP:20260424T054441
CREATED:20200608T123208Z
LAST-MODIFIED:20200608T123208Z
UID:5022-1604394000-1604406600@idip.unistra.fr
SUMMARY:Atelier C4 : Rédiger et communiquer son syllabus
DESCRIPTION:Le premier contact avec les étudiant·es est un moment essentiel où l’on communique notamment les objectifs d’apprentissage\, les méthodes de travail et modalités d’évaluation de son enseignement.Quels modèles de syllabus existent ? Quel est leur rôle ? Comment utiliser le syllabus pour établir le contrat pédagogique avec vos étudiants ? Comment communiquer ces éléments de la manière la plus efficace ?Nous vous proposons un atelier pour rédiger un syllabus permettant d’expliciter ces éléments afin d’assurer le bon déroulement de votre enseignement.
URL:https://idip.unistra.fr/event/atelier-c4-rediger-et-communiquer-son-syllabus/
LOCATION:Idip\, 15 rue du Maréchal Lefebvre\, STRASBOURG\, 67000\, France
CATEGORIES:Atelier
END:VEVENT
END:VCALENDAR