BEGIN:VCALENDAR
VERSION:2.0
PRODID:-//Idip - ECPv6.15.20//NONSGML v1.0//EN
CALSCALE:GREGORIAN
METHOD:PUBLISH
X-WR-CALNAME:Idip
X-ORIGINAL-URL:https://idip.unistra.fr
X-WR-CALDESC:Évènements pour Idip
REFRESH-INTERVAL;VALUE=DURATION:PT1H
X-Robots-Tag:noindex
X-PUBLISHED-TTL:PT1H
BEGIN:VTIMEZONE
TZID:Europe/Paris
BEGIN:DAYLIGHT
TZOFFSETFROM:+0100
TZOFFSETTO:+0200
TZNAME:CEST
DTSTART:20190331T010000
END:DAYLIGHT
BEGIN:STANDARD
TZOFFSETFROM:+0200
TZOFFSETTO:+0100
TZNAME:CET
DTSTART:20191027T010000
END:STANDARD
BEGIN:DAYLIGHT
TZOFFSETFROM:+0100
TZOFFSETTO:+0200
TZNAME:CEST
DTSTART:20200329T010000
END:DAYLIGHT
BEGIN:STANDARD
TZOFFSETFROM:+0200
TZOFFSETTO:+0100
TZNAME:CET
DTSTART:20201025T010000
END:STANDARD
BEGIN:DAYLIGHT
TZOFFSETFROM:+0100
TZOFFSETTO:+0200
TZNAME:CEST
DTSTART:20210328T010000
END:DAYLIGHT
BEGIN:STANDARD
TZOFFSETFROM:+0200
TZOFFSETTO:+0100
TZNAME:CET
DTSTART:20211031T010000
END:STANDARD
END:VTIMEZONE
BEGIN:VEVENT
DTSTART;TZID=Europe/Paris:20201023T090000
DTEND;TZID=Europe/Paris:20201023T110000
DTSTAMP:20260423T062408
CREATED:20200608T134813Z
LAST-MODIFIED:20200608T134813Z
UID:5085-1603443600-1603450800@idip.unistra.fr
SUMMARY:Utiliser la webconférence pour accompagner les étudiants
DESCRIPTION:L’accompagnement des étudiants en-dehors des salles de classe nécessite souvent une disponibilité et une organisation contraignantes pour l’enseignant comme pour l’étudiant. Une solution de webconférence peut apporter de la souplesse et permettre d’organiser ce suivi sur des plages horaires différentes\, à la convenance des personnes concernées\, et en s’affranchissant des contraintes de lieu.L’atelier sera divisé en deux parties :– présentation des outils proposés par l’Unistra ;– mise en pratique.Pré-requis : pour tester la classe virtuelle\, il est souhaitable d’avoir un casque micro.
URL:https://idip.unistra.fr/event/utiliser-la-webconference-pour-accompagner-les-etudiants/
CATEGORIES:Atelier
END:VEVENT
END:VCALENDAR