BEGIN:VCALENDAR
VERSION:2.0
PRODID:-//Idip - ECPv6.15.20//NONSGML v1.0//EN
CALSCALE:GREGORIAN
METHOD:PUBLISH
X-WR-CALNAME:Idip
X-ORIGINAL-URL:https://idip.unistra.fr
X-WR-CALDESC:Évènements pour Idip
REFRESH-INTERVAL;VALUE=DURATION:PT1H
X-Robots-Tag:noindex
X-PUBLISHED-TTL:PT1H
BEGIN:VTIMEZONE
TZID:Europe/Paris
BEGIN:DAYLIGHT
TZOFFSETFROM:+0100
TZOFFSETTO:+0200
TZNAME:CEST
DTSTART:20190331T010000
END:DAYLIGHT
BEGIN:STANDARD
TZOFFSETFROM:+0200
TZOFFSETTO:+0100
TZNAME:CET
DTSTART:20191027T010000
END:STANDARD
BEGIN:DAYLIGHT
TZOFFSETFROM:+0100
TZOFFSETTO:+0200
TZNAME:CEST
DTSTART:20200329T010000
END:DAYLIGHT
BEGIN:STANDARD
TZOFFSETFROM:+0200
TZOFFSETTO:+0100
TZNAME:CET
DTSTART:20201025T010000
END:STANDARD
BEGIN:DAYLIGHT
TZOFFSETFROM:+0100
TZOFFSETTO:+0200
TZNAME:CEST
DTSTART:20210328T010000
END:DAYLIGHT
BEGIN:STANDARD
TZOFFSETFROM:+0200
TZOFFSETTO:+0100
TZNAME:CET
DTSTART:20211031T010000
END:STANDARD
END:VTIMEZONE
BEGIN:VEVENT
DTSTART;TZID=Europe/Paris:20201022T140000
DTEND;TZID=Europe/Paris:20201022T173000
DTSTAMP:20260422T162516
CREATED:20200608T123050Z
LAST-MODIFIED:20200608T123050Z
UID:5020-1603375200-1603387800@idip.unistra.fr
SUMMARY:Atelier C3 : Guider les raisonnements par les échanges
DESCRIPTION:Les enseignants universitaires ont l’habitude de présenter des connaissances structurées aux étudiants\, toutefois les techniques d’engagement des étudiants dans les échanges qui mènent à la construction de leurs connaissances et compréhension sont l’objet de questionnement.Quel type de questions poser et comment ? Quelle place pour le silence et la pause ? Comment traiter des réponses « erronées » ? Comment créer l’environnement qui favorise l’engagement des étudiants dans les échanges ? Pour quel objectif utiliser ces techniques ?Cet atelier vous permettra d’identifier le rôle du dialogue dans le développement du raisonnement des étudiants et de pratiquer différentes techniques pour mener des échanges propices à l’apprentissage en profondeur.
URL:https://idip.unistra.fr/event/atelier-c3-guider-les-raisonnements-par-les-echanges/
LOCATION:Idip\, 15 rue du Maréchal Lefebvre\, STRASBOURG\, 67000\, France
CATEGORIES:Atelier
END:VEVENT
END:VCALENDAR