BEGIN:VCALENDAR
VERSION:2.0
PRODID:-//Idip - ECPv6.15.20//NONSGML v1.0//EN
CALSCALE:GREGORIAN
METHOD:PUBLISH
X-WR-CALNAME:Idip
X-ORIGINAL-URL:https://idip.unistra.fr
X-WR-CALDESC:Évènements pour Idip
REFRESH-INTERVAL;VALUE=DURATION:PT1H
X-Robots-Tag:noindex
X-PUBLISHED-TTL:PT1H
BEGIN:VTIMEZONE
TZID:Europe/Paris
BEGIN:DAYLIGHT
TZOFFSETFROM:+0100
TZOFFSETTO:+0200
TZNAME:CEST
DTSTART:20190331T010000
END:DAYLIGHT
BEGIN:STANDARD
TZOFFSETFROM:+0200
TZOFFSETTO:+0100
TZNAME:CET
DTSTART:20191027T010000
END:STANDARD
BEGIN:DAYLIGHT
TZOFFSETFROM:+0100
TZOFFSETTO:+0200
TZNAME:CEST
DTSTART:20200329T010000
END:DAYLIGHT
BEGIN:STANDARD
TZOFFSETFROM:+0200
TZOFFSETTO:+0100
TZNAME:CET
DTSTART:20201025T010000
END:STANDARD
BEGIN:DAYLIGHT
TZOFFSETFROM:+0100
TZOFFSETTO:+0200
TZNAME:CEST
DTSTART:20210328T010000
END:DAYLIGHT
BEGIN:STANDARD
TZOFFSETFROM:+0200
TZOFFSETTO:+0100
TZNAME:CET
DTSTART:20211031T010000
END:STANDARD
END:VTIMEZONE
BEGIN:VEVENT
DTSTART;TZID=Europe/Paris:20201021T090000
DTEND;TZID=Europe/Paris:20201021T123000
DTSTAMP:20260425T033957
CREATED:20200608T122237Z
LAST-MODIFIED:20200608T122237Z
UID:5016-1603270800-1603283400@idip.unistra.fr
SUMMARY:Atelier B3 : Soutenir la motivation des étudiants
DESCRIPTION:Nombreux sont les enseignants à parler du manque de motivation de leurs étudiants. Ils évoquent\, entre autres\, leur absentéisme et leur désengagement. Ce constat est d’autant plus alarmant qu’il est désormais acquis que la motivation est un facteur important de la persévérance dans les études et de la réussite. Mais qu’est-ce donc que la motivation ? Cet atelier abordera le fonctionnement de la motivation du point de vue des apprentissages des étudiants. Nous dégagerons ensuite des pistes concrètes pour soutenir la motivation des étudiants et les encourager dans leur travail.
URL:https://idip.unistra.fr/event/atelier-b3-soutenir-la-motivation-des-etudiants/
LOCATION:Idip\, 15 rue du Maréchal Lefebvre\, STRASBOURG\, 67000\, France
CATEGORIES:Atelier
END:VEVENT
END:VCALENDAR