BEGIN:VCALENDAR
VERSION:2.0
PRODID:-//Idip - ECPv6.15.20//NONSGML v1.0//EN
CALSCALE:GREGORIAN
METHOD:PUBLISH
X-WR-CALNAME:Idip
X-ORIGINAL-URL:https://idip.unistra.fr
X-WR-CALDESC:Évènements pour Idip
REFRESH-INTERVAL;VALUE=DURATION:PT1H
X-Robots-Tag:noindex
X-PUBLISHED-TTL:PT1H
BEGIN:VTIMEZONE
TZID:Europe/Paris
BEGIN:DAYLIGHT
TZOFFSETFROM:+0100
TZOFFSETTO:+0200
TZNAME:CEST
DTSTART:20190331T010000
END:DAYLIGHT
BEGIN:STANDARD
TZOFFSETFROM:+0200
TZOFFSETTO:+0100
TZNAME:CET
DTSTART:20191027T010000
END:STANDARD
BEGIN:DAYLIGHT
TZOFFSETFROM:+0100
TZOFFSETTO:+0200
TZNAME:CEST
DTSTART:20200329T010000
END:DAYLIGHT
BEGIN:STANDARD
TZOFFSETFROM:+0200
TZOFFSETTO:+0100
TZNAME:CET
DTSTART:20201025T010000
END:STANDARD
BEGIN:DAYLIGHT
TZOFFSETFROM:+0100
TZOFFSETTO:+0200
TZNAME:CEST
DTSTART:20210328T010000
END:DAYLIGHT
BEGIN:STANDARD
TZOFFSETFROM:+0200
TZOFFSETTO:+0100
TZNAME:CET
DTSTART:20211031T010000
END:STANDARD
END:VTIMEZONE
BEGIN:VEVENT
DTSTART;TZID=Europe/Paris:20201020T090000
DTEND;TZID=Europe/Paris:20201020T123000
DTSTAMP:20260423T041614
CREATED:20200608T122139Z
LAST-MODIFIED:20200608T122139Z
UID:5014-1603184400-1603197000@idip.unistra.fr
SUMMARY:Atelier B2 : Renforcer les stratégies d’apprentissage des étudiants
DESCRIPTION:La plupart des enseignants universitaires ambitionnent d’apprendre à leurs étudiants à penser en scientifiques critiques. Or\, dans la réalité\, ces bonnes intentions se heurtent souvent à de l’incompréhension ou à de la résistance de la part des étudiants. Quelles approches ont-ils de l’apprentissage ? Comment apprennent-ils ? Comment l’enseignant peut-il amener les étudiants à réfléchir à leurs apprentissages ? Cet atelier vous donnera des clés pour reconnaître les différentes stratégies d’apprentissage des étudiants. Ensemble\, nous identifierons des pratiques pédagogiques favorisant le développement de stratégies d’apprentissage et de méthodologies de travail universitaire efficaces.
URL:https://idip.unistra.fr/event/atelier-b2-renforcer-les-strategies-dapprentissage-des-etudiants/
LOCATION:Idip\, 15 rue du Maréchal Lefebvre\, STRASBOURG\, 67000\, France
CATEGORIES:Atelier
END:VEVENT
END:VCALENDAR