BEGIN:VCALENDAR
VERSION:2.0
PRODID:-//Idip - ECPv6.15.20//NONSGML v1.0//EN
CALSCALE:GREGORIAN
METHOD:PUBLISH
X-WR-CALNAME:Idip
X-ORIGINAL-URL:https://idip.unistra.fr
X-WR-CALDESC:Évènements pour Idip
REFRESH-INTERVAL;VALUE=DURATION:PT1H
X-Robots-Tag:noindex
X-PUBLISHED-TTL:PT1H
BEGIN:VTIMEZONE
TZID:Europe/Paris
BEGIN:DAYLIGHT
TZOFFSETFROM:+0100
TZOFFSETTO:+0200
TZNAME:CEST
DTSTART:20190331T010000
END:DAYLIGHT
BEGIN:STANDARD
TZOFFSETFROM:+0200
TZOFFSETTO:+0100
TZNAME:CET
DTSTART:20191027T010000
END:STANDARD
BEGIN:DAYLIGHT
TZOFFSETFROM:+0100
TZOFFSETTO:+0200
TZNAME:CEST
DTSTART:20200329T010000
END:DAYLIGHT
BEGIN:STANDARD
TZOFFSETFROM:+0200
TZOFFSETTO:+0100
TZNAME:CET
DTSTART:20201025T010000
END:STANDARD
BEGIN:DAYLIGHT
TZOFFSETFROM:+0100
TZOFFSETTO:+0200
TZNAME:CEST
DTSTART:20210328T010000
END:DAYLIGHT
BEGIN:STANDARD
TZOFFSETFROM:+0200
TZOFFSETTO:+0100
TZNAME:CET
DTSTART:20211031T010000
END:STANDARD
END:VTIMEZONE
BEGIN:VEVENT
DTSTART;TZID=Europe/Paris:20201016T133000
DTEND;TZID=Europe/Paris:20201016T153000
DTSTAMP:20260423T062408
CREATED:20200629T133355Z
LAST-MODIFIED:20200629T133355Z
UID:5281-1602855000-1602862200@idip.unistra.fr
SUMMARY:Accompagner le projet professionnel dans les UE dédiées
DESCRIPTION:Salle 0-01 Nouveau PatioAider nos étudiant.e.s à trouver leur voie et à s’insérer professionnellement est une des missions confiées aux universités. Cet atelier présente l’implication d’Espace Avenir orientation-stage-emploi dans cette mission\, notamment en détaillant son travail de montage d’UE dédiées. Il expose les formations et outils élaborés pour les intervenants etles étudiants (supports pédagogiques). Dans cet atelier*\, vous pourrez appréhender la posture de l’intervenant.e qui anime ce type d’UE\, et mieux comprendre celle du référent accompagnant un.e étudiant.e.Objectifs :– découvrir les UE de projet professionnel à l’Unistra et le travail de coordination d’Espace Avenir – sensibiliser à l’accompagnement et l’élaboration du projet professionnel – appréhender\, comprendre\, s’approprier la posture de l’intervenant en UE APE / du référent étudiant en licence Contact/inscriptions : Patricia DÉMORIEUX – patricia.demorieux@unistra.f
URL:https://idip.unistra.fr/event/accompagner-le-projet-professionnel-dans-les-ue-dediees/
LOCATION:Nouveau Patio
CATEGORIES:Atelier
END:VEVENT
END:VCALENDAR