BEGIN:VCALENDAR
VERSION:2.0
PRODID:-//Idip - ECPv6.15.20//NONSGML v1.0//EN
CALSCALE:GREGORIAN
METHOD:PUBLISH
X-WR-CALNAME:Idip
X-ORIGINAL-URL:https://idip.unistra.fr
X-WR-CALDESC:Évènements pour Idip
REFRESH-INTERVAL;VALUE=DURATION:PT1H
X-Robots-Tag:noindex
X-PUBLISHED-TTL:PT1H
BEGIN:VTIMEZONE
TZID:Europe/Paris
BEGIN:DAYLIGHT
TZOFFSETFROM:+0100
TZOFFSETTO:+0200
TZNAME:CEST
DTSTART:20190331T010000
END:DAYLIGHT
BEGIN:STANDARD
TZOFFSETFROM:+0200
TZOFFSETTO:+0100
TZNAME:CET
DTSTART:20191027T010000
END:STANDARD
BEGIN:DAYLIGHT
TZOFFSETFROM:+0100
TZOFFSETTO:+0200
TZNAME:CEST
DTSTART:20200329T010000
END:DAYLIGHT
BEGIN:STANDARD
TZOFFSETFROM:+0200
TZOFFSETTO:+0100
TZNAME:CET
DTSTART:20201025T010000
END:STANDARD
BEGIN:DAYLIGHT
TZOFFSETFROM:+0100
TZOFFSETTO:+0200
TZNAME:CEST
DTSTART:20210328T010000
END:DAYLIGHT
BEGIN:STANDARD
TZOFFSETFROM:+0200
TZOFFSETTO:+0100
TZNAME:CET
DTSTART:20211031T010000
END:STANDARD
END:VTIMEZONE
BEGIN:VEVENT
DTSTART;TZID=Europe/Paris:20201014T090000
DTEND;TZID=Europe/Paris:20201014T123000
DTSTAMP:20260425T155847
CREATED:20200608T121732Z
LAST-MODIFIED:20200608T121732Z
UID:5008-1602666000-1602678600@idip.unistra.fr
SUMMARY:Atelier A4 : Évaluer les apprentissages des étudiants
DESCRIPTION:L’évaluation est un moment crucial quand on vise à évaluer les apprentissages des étudiants avec rigueur et justesse tout en restant cohérent dans son approche pédagogique.Dans cet atelier\, nous développerons un cadre de travail qui permet de mettre l’évaluation au service des apprentissages des étudiants par une approche intégrée de l’évaluation. Il comprend trois phases : 1) la clarification des apprentissages à évaluer ; 2) la sélection d’une méthode qui permet d’obtenir une preuve des apprentissages réalisés ; 3) l’analyse et l’interprétation des preuves de l’apprentissage ainsi obtenues.
URL:https://idip.unistra.fr/event/atelier-a4-evaluer-les-apprentissages-des-etudiants/
LOCATION:Idip\, 15 rue du Maréchal Lefebvre\, STRASBOURG\, 67000\, France
CATEGORIES:Atelier
END:VEVENT
END:VCALENDAR