BEGIN:VCALENDAR
VERSION:2.0
PRODID:-//Idip - ECPv6.15.20//NONSGML v1.0//EN
CALSCALE:GREGORIAN
METHOD:PUBLISH
X-WR-CALNAME:Idip
X-ORIGINAL-URL:https://idip.unistra.fr
X-WR-CALDESC:Évènements pour Idip
REFRESH-INTERVAL;VALUE=DURATION:PT1H
X-Robots-Tag:noindex
X-PUBLISHED-TTL:PT1H
BEGIN:VTIMEZONE
TZID:Europe/Paris
BEGIN:DAYLIGHT
TZOFFSETFROM:+0100
TZOFFSETTO:+0200
TZNAME:CEST
DTSTART:20190331T010000
END:DAYLIGHT
BEGIN:STANDARD
TZOFFSETFROM:+0200
TZOFFSETTO:+0100
TZNAME:CET
DTSTART:20191027T010000
END:STANDARD
BEGIN:DAYLIGHT
TZOFFSETFROM:+0100
TZOFFSETTO:+0200
TZNAME:CEST
DTSTART:20200329T010000
END:DAYLIGHT
BEGIN:STANDARD
TZOFFSETFROM:+0200
TZOFFSETTO:+0100
TZNAME:CET
DTSTART:20201025T010000
END:STANDARD
BEGIN:DAYLIGHT
TZOFFSETFROM:+0100
TZOFFSETTO:+0200
TZNAME:CEST
DTSTART:20210328T010000
END:DAYLIGHT
BEGIN:STANDARD
TZOFFSETFROM:+0200
TZOFFSETTO:+0100
TZNAME:CET
DTSTART:20211031T010000
END:STANDARD
END:VTIMEZONE
BEGIN:VEVENT
DTSTART;TZID=Europe/Paris:20201012T140000
DTEND;TZID=Europe/Paris:20201012T173000
DTSTAMP:20260423T045915
CREATED:20200608T121524Z
LAST-MODIFIED:20200608T121524Z
UID:5006-1602511200-1602523800@idip.unistra.fr
SUMMARY:Atelier A3 : Adapter ses méthodes d’enseignement
DESCRIPTION:De plus en plus d’enseignants ont pour ambition de développer des méthodes d’enseignement dites actives ou innovantes. Faut-il rejeter\, pour autant\, les méthodes traditionnelles comme l’enseignement magistral ? Comment rendre les étudiants actifs dans la cadre d’un exposé magistral ?Cet atelier sera l’occasion de discuter des critères qui permettent de juger de la pertinence et de l’efficacité d’une méthode. Nous verrons comment choisir des méthodes d’enseignement prenant en compte ses conceptions de l’apprentissage d’une part et la cohérence avec ses objectifs d’apprentissage d’autre part.
URL:https://idip.unistra.fr/event/atelier-a3-adapter-ses-methodes-denseignement/
LOCATION:Idip\, 15 rue du Maréchal Lefebvre\, STRASBOURG\, 67000\, France
CATEGORIES:Atelier
END:VEVENT
END:VCALENDAR