BEGIN:VCALENDAR
VERSION:2.0
PRODID:-//Idip - ECPv6.15.20//NONSGML v1.0//EN
CALSCALE:GREGORIAN
METHOD:PUBLISH
X-WR-CALNAME:Idip
X-ORIGINAL-URL:https://idip.unistra.fr
X-WR-CALDESC:Évènements pour Idip
REFRESH-INTERVAL;VALUE=DURATION:PT1H
X-Robots-Tag:noindex
X-PUBLISHED-TTL:PT1H
BEGIN:VTIMEZONE
TZID:Europe/Paris
BEGIN:DAYLIGHT
TZOFFSETFROM:+0100
TZOFFSETTO:+0200
TZNAME:CEST
DTSTART:20190331T010000
END:DAYLIGHT
BEGIN:STANDARD
TZOFFSETFROM:+0200
TZOFFSETTO:+0100
TZNAME:CET
DTSTART:20191027T010000
END:STANDARD
BEGIN:DAYLIGHT
TZOFFSETFROM:+0100
TZOFFSETTO:+0200
TZNAME:CEST
DTSTART:20200329T010000
END:DAYLIGHT
BEGIN:STANDARD
TZOFFSETFROM:+0200
TZOFFSETTO:+0100
TZNAME:CET
DTSTART:20201025T010000
END:STANDARD
BEGIN:DAYLIGHT
TZOFFSETFROM:+0100
TZOFFSETTO:+0200
TZNAME:CEST
DTSTART:20210328T010000
END:DAYLIGHT
BEGIN:STANDARD
TZOFFSETFROM:+0200
TZOFFSETTO:+0100
TZNAME:CET
DTSTART:20211031T010000
END:STANDARD
END:VTIMEZONE
BEGIN:VEVENT
DTSTART;TZID=Europe/Paris:20201009T090000
DTEND;TZID=Europe/Paris:20201009T120000
DTSTAMP:20260423T160840
CREATED:20200608T134128Z
LAST-MODIFIED:20200608T134146Z
UID:5073-1602234000-1602244800@idip.unistra.fr
SUMMARY:Maîtriser les outils de cartes conceptuelles
DESCRIPTION:Que vous désiriez avoir un aperçu des outils numériques permettant d’organiser et structurer vos idées\, que vous souhaitiez faire travailler vos étudiants sur des cartes conceptuelles en classe\, ou que vous ayez envie de transposer vos propres cartes conceptuelles du format crayon-papier au format numérique\, cet atelier est fait pour vous !L’atelier sera divisé en deux parties :– présentation d’une sélection d’outils ;– mise en pratique.
URL:https://idip.unistra.fr/event/maitriser-les-outils-de-cartes-conceptuelles/
CATEGORIES:Atelier
END:VEVENT
END:VCALENDAR