BEGIN:VCALENDAR
VERSION:2.0
PRODID:-//Idip - ECPv6.15.20//NONSGML v1.0//EN
CALSCALE:GREGORIAN
METHOD:PUBLISH
X-WR-CALNAME:Idip
X-ORIGINAL-URL:https://idip.unistra.fr
X-WR-CALDESC:Évènements pour Idip
REFRESH-INTERVAL;VALUE=DURATION:PT1H
X-Robots-Tag:noindex
X-PUBLISHED-TTL:PT1H
BEGIN:VTIMEZONE
TZID:Europe/Paris
BEGIN:DAYLIGHT
TZOFFSETFROM:+0100
TZOFFSETTO:+0200
TZNAME:CEST
DTSTART:20190331T010000
END:DAYLIGHT
BEGIN:STANDARD
TZOFFSETFROM:+0200
TZOFFSETTO:+0100
TZNAME:CET
DTSTART:20191027T010000
END:STANDARD
BEGIN:DAYLIGHT
TZOFFSETFROM:+0100
TZOFFSETTO:+0200
TZNAME:CEST
DTSTART:20200329T010000
END:DAYLIGHT
BEGIN:STANDARD
TZOFFSETFROM:+0200
TZOFFSETTO:+0100
TZNAME:CET
DTSTART:20201025T010000
END:STANDARD
BEGIN:DAYLIGHT
TZOFFSETFROM:+0100
TZOFFSETTO:+0200
TZNAME:CEST
DTSTART:20210328T010000
END:DAYLIGHT
BEGIN:STANDARD
TZOFFSETFROM:+0200
TZOFFSETTO:+0100
TZNAME:CET
DTSTART:20211031T010000
END:STANDARD
END:VTIMEZONE
BEGIN:VEVENT
DTSTART;TZID=Europe/Paris:20201008T090000
DTEND;TZID=Europe/Paris:20201008T123000
DTSTAMP:20260424T072953
CREATED:20200608T121247Z
LAST-MODIFIED:20200608T121247Z
UID:5004-1602147600-1602160200@idip.unistra.fr
SUMMARY:Atelier A2 : Organiser son enseignement à l’aide d’une carte conceptuelle
DESCRIPTION:Comment organiser son cours ? Quels contenus privilégier ? Comment les prioriser ? Comment les aborder ? Tout enseignant est confronté à ces questions. La carte conceptuelle est un outil qui peut faciliter la réflexion et l’organisation des contenus.Dans cet atelier\, nous aborderons les éléments théoriques qui peuvent guider la manière de penser et structurer ses contenus d’enseignement ainsi que les bases nécessaires pour construire une carte conceptuelle.
URL:https://idip.unistra.fr/event/atelier-a2-organiser-son-enseignement-a-laide-dune-carte-conceptuelle/
LOCATION:Idip\, 15 rue du Maréchal Lefebvre\, STRASBOURG\, 67000\, France
CATEGORIES:Atelier
END:VEVENT
END:VCALENDAR