BEGIN:VCALENDAR
VERSION:2.0
PRODID:-//Idip - ECPv6.15.20//NONSGML v1.0//EN
CALSCALE:GREGORIAN
METHOD:PUBLISH
X-WR-CALNAME:Idip
X-ORIGINAL-URL:https://idip.unistra.fr
X-WR-CALDESC:Évènements pour Idip
REFRESH-INTERVAL;VALUE=DURATION:PT1H
X-Robots-Tag:noindex
X-PUBLISHED-TTL:PT1H
BEGIN:VTIMEZONE
TZID:Europe/Paris
BEGIN:DAYLIGHT
TZOFFSETFROM:+0100
TZOFFSETTO:+0200
TZNAME:CEST
DTSTART:20190331T010000
END:DAYLIGHT
BEGIN:STANDARD
TZOFFSETFROM:+0200
TZOFFSETTO:+0100
TZNAME:CET
DTSTART:20191027T010000
END:STANDARD
BEGIN:DAYLIGHT
TZOFFSETFROM:+0100
TZOFFSETTO:+0200
TZNAME:CEST
DTSTART:20200329T010000
END:DAYLIGHT
BEGIN:STANDARD
TZOFFSETFROM:+0200
TZOFFSETTO:+0100
TZNAME:CET
DTSTART:20201025T010000
END:STANDARD
BEGIN:DAYLIGHT
TZOFFSETFROM:+0100
TZOFFSETTO:+0200
TZNAME:CEST
DTSTART:20210328T010000
END:DAYLIGHT
BEGIN:STANDARD
TZOFFSETFROM:+0200
TZOFFSETTO:+0100
TZNAME:CET
DTSTART:20211031T010000
END:STANDARD
END:VTIMEZONE
BEGIN:VEVENT
DTSTART;TZID=Europe/Paris:20200910T090000
DTEND;TZID=Europe/Paris:20200910T110000
DTSTAMP:20260422T143623
CREATED:20200608T134026Z
LAST-MODIFIED:20200608T134026Z
UID:5070-1599728400-1599735600@idip.unistra.fr
SUMMARY:Initiation à Moodle
DESCRIPTION:Depuis 2010\, l’Unistra met à la disposition de la communauté universitaire la plateforme pédagogique Moodle.Moodle c’est :– la gestion dynamique et souple de vos contenus pédagogiques (ressources et activités);– un moyen de communiquer et d’échanger avec les étudiants en-dehors de la classe;– la possibilité d’évaluer les apprentissages sous diverses formes (quiz\, devoir\, évaluation par les pairs);– une boîte à outils qui vous aide à concevoir votre propre environnement de travail avec vos étudiants.À l’issue de cet atelier\, vous saurez vous repérer sur la plateforme pédagogique\, vous pourrez créer un espace de cours\, y inscrire les étudiants et vous connaîtrez les fonctionnalités de base de Moodle et ses usages courants.Pré-requis : activation du compte Unistra
URL:https://idip.unistra.fr/event/initiation-a-moodle/
CATEGORIES:Atelier
END:VEVENT
END:VCALENDAR