BEGIN:VCALENDAR
VERSION:2.0
PRODID:-//Idip - ECPv6.15.20//NONSGML v1.0//EN
CALSCALE:GREGORIAN
METHOD:PUBLISH
X-WR-CALNAME:Idip
X-ORIGINAL-URL:https://idip.unistra.fr
X-WR-CALDESC:Évènements pour Idip
REFRESH-INTERVAL;VALUE=DURATION:PT1H
X-Robots-Tag:noindex
X-PUBLISHED-TTL:PT1H
BEGIN:VTIMEZONE
TZID:Europe/Paris
BEGIN:DAYLIGHT
TZOFFSETFROM:+0100
TZOFFSETTO:+0200
TZNAME:CEST
DTSTART:20190331T010000
END:DAYLIGHT
BEGIN:STANDARD
TZOFFSETFROM:+0200
TZOFFSETTO:+0100
TZNAME:CET
DTSTART:20191027T010000
END:STANDARD
BEGIN:DAYLIGHT
TZOFFSETFROM:+0100
TZOFFSETTO:+0200
TZNAME:CEST
DTSTART:20200329T010000
END:DAYLIGHT
BEGIN:STANDARD
TZOFFSETFROM:+0200
TZOFFSETTO:+0100
TZNAME:CET
DTSTART:20201025T010000
END:STANDARD
BEGIN:DAYLIGHT
TZOFFSETFROM:+0100
TZOFFSETTO:+0200
TZNAME:CEST
DTSTART:20210328T010000
END:DAYLIGHT
BEGIN:STANDARD
TZOFFSETFROM:+0200
TZOFFSETTO:+0100
TZNAME:CET
DTSTART:20211031T010000
END:STANDARD
END:VTIMEZONE
BEGIN:VEVENT
DTSTART;TZID=Europe/Paris:20200624T093000
DTEND;TZID=Europe/Paris:20200624T120000
DTSTAMP:20260424T072953
CREATED:20200612T065150Z
LAST-MODIFIED:20200612T065150Z
UID:5151-1592991000-1593000000@idip.unistra.fr
SUMMARY:Encadrer et accompagner les apprentissages des étudiants à distance
DESCRIPTION:Cet atelier permettra de mettre en lumière les différences entre le présentiel et le distanciel en matière d’encadrement et d’accompagnement des apprentissages.\nComme toujours\, cet atelier sera enrichi par vos questions et vos retours d’expériences. \nLien vers l’inscription pour le 22/06 (complet)\nLien vers l’inscription pour le 24/06 (nouveau !)\nLien vers l’atelier
URL:https://idip.unistra.fr/event/encadrer-et-accompagner-les-apprentissages-des-etudiants-a-distance-2/
CATEGORIES:Atelier
END:VEVENT
END:VCALENDAR