BEGIN:VCALENDAR
VERSION:2.0
PRODID:-//Idip - ECPv6.15.20//NONSGML v1.0//EN
CALSCALE:GREGORIAN
METHOD:PUBLISH
X-WR-CALNAME:Idip
X-ORIGINAL-URL:https://idip.unistra.fr
X-WR-CALDESC:Évènements pour Idip
REFRESH-INTERVAL;VALUE=DURATION:PT1H
X-Robots-Tag:noindex
X-PUBLISHED-TTL:PT1H
BEGIN:VTIMEZONE
TZID:Europe/Paris
BEGIN:DAYLIGHT
TZOFFSETFROM:+0100
TZOFFSETTO:+0200
TZNAME:CEST
DTSTART:20190331T010000
END:DAYLIGHT
BEGIN:STANDARD
TZOFFSETFROM:+0200
TZOFFSETTO:+0100
TZNAME:CET
DTSTART:20191027T010000
END:STANDARD
BEGIN:DAYLIGHT
TZOFFSETFROM:+0100
TZOFFSETTO:+0200
TZNAME:CEST
DTSTART:20200329T010000
END:DAYLIGHT
BEGIN:STANDARD
TZOFFSETFROM:+0200
TZOFFSETTO:+0100
TZNAME:CET
DTSTART:20201025T010000
END:STANDARD
BEGIN:DAYLIGHT
TZOFFSETFROM:+0100
TZOFFSETTO:+0200
TZNAME:CEST
DTSTART:20210328T010000
END:DAYLIGHT
BEGIN:STANDARD
TZOFFSETFROM:+0200
TZOFFSETTO:+0100
TZNAME:CET
DTSTART:20211031T010000
END:STANDARD
END:VTIMEZONE
BEGIN:VEVENT
DTSTART;TZID=Europe/Paris:20200623T100000
DTEND;TZID=Europe/Paris:20200623T120000
DTSTAMP:20260421T063240
CREATED:20200612T064507Z
LAST-MODIFIED:20200612T064507Z
UID:5141-1592906400-1592913600@idip.unistra.fr
SUMMARY:Séances d’échange d’expérience proposées par l’équipe du projet Idex EAD
DESCRIPTION:L’évaluation\, de la conception aux corrections\nNous vous proposons des moments d’échange pour poser vos questions\, demander conseil\, partager vos expériences et vos idées\, vous entraider afin de préparer au mieux cette rentrée 2020-21 qui sera bien particulière.\nCes séances seront animées par l’équipe du projet Idex EAD en collaboration avec l’Idip. \nPas d’inscription nécessaire \nPosez vos questions à l’avance \nLien vers les séances d’échange\n \nLire les notes partagées des séances
URL:https://idip.unistra.fr/event/seances-dechange-dexperience-proposees-par-lequipe-du-projet-idex-ead-2/
END:VEVENT
BEGIN:VEVENT
DTSTART;TZID=Europe/Paris:20200623T140000
DTEND;TZID=Europe/Paris:20200623T160000
DTSTAMP:20260421T063240
CREATED:20200526T110157Z
LAST-MODIFIED:20200526T110157Z
UID:4852-1592920800-1592928000@idip.unistra.fr
SUMMARY:Produire des supports pédagogiques
DESCRIPTION:Cet atelier proposera dans un premier temps un espace de cours en ligne regroupant des exemples d’utilisation\, d’outils de création de ressources pédagogiques (création graphique et création de ressources dynamiques). Puis\, une permanence sera organisée afin de répondre aux éventuelles questions. \nOuverture le 16 juin 2020.
URL:https://idip.unistra.fr/event/produire-des-supports-pedagogiques/
LOCATION:https://moodle3.unistra.fr/course/view.php?id=13397
END:VEVENT
END:VCALENDAR