BEGIN:VCALENDAR
VERSION:2.0
PRODID:-//Idip - ECPv6.15.20//NONSGML v1.0//EN
CALSCALE:GREGORIAN
METHOD:PUBLISH
X-WR-CALNAME:Idip
X-ORIGINAL-URL:https://idip.unistra.fr
X-WR-CALDESC:Évènements pour Idip
REFRESH-INTERVAL;VALUE=DURATION:PT1H
X-Robots-Tag:noindex
X-PUBLISHED-TTL:PT1H
BEGIN:VTIMEZONE
TZID:Europe/Paris
BEGIN:DAYLIGHT
TZOFFSETFROM:+0100
TZOFFSETTO:+0200
TZNAME:CEST
DTSTART:20190331T010000
END:DAYLIGHT
BEGIN:STANDARD
TZOFFSETFROM:+0200
TZOFFSETTO:+0100
TZNAME:CET
DTSTART:20191027T010000
END:STANDARD
BEGIN:DAYLIGHT
TZOFFSETFROM:+0100
TZOFFSETTO:+0200
TZNAME:CEST
DTSTART:20200329T010000
END:DAYLIGHT
BEGIN:STANDARD
TZOFFSETFROM:+0200
TZOFFSETTO:+0100
TZNAME:CET
DTSTART:20201025T010000
END:STANDARD
BEGIN:DAYLIGHT
TZOFFSETFROM:+0100
TZOFFSETTO:+0200
TZNAME:CEST
DTSTART:20210328T010000
END:DAYLIGHT
BEGIN:STANDARD
TZOFFSETFROM:+0200
TZOFFSETTO:+0100
TZNAME:CET
DTSTART:20211031T010000
END:STANDARD
END:VTIMEZONE
BEGIN:VEVENT
DTSTART;TZID=Europe/Paris:20200609T100000
DTEND;TZID=Europe/Paris:20200609T120000
DTSTAMP:20260421T223330
CREATED:20200526T102447Z
LAST-MODIFIED:20200526T102724Z
UID:4846-1591696800-1591704000@idip.unistra.fr
SUMMARY:Questions/réponses et partage de pratiques sur différentes thématiques : l’hybridation\, l’accompagnement des étudiants\, les évaluations\, etc.)
DESCRIPTION:Nous vous proposons des moments d’échange pour poser vos questions\, demander conseil\, partager vos expériences et vos idées\, vous entraider  afin de préparer au mieux cette rentrée 2020-21 qui sera bien particulière.\nCes séances seront animées par l’équipe du projet Idex EAD en collaboration avec l’Idip.
URL:https://idip.unistra.fr/event/questions-reponses-et-partage-de-pratiques-sur-differentes-thematiques-lhybridation-laccompagnement-des-etudiants-les-evaluations-etc/
LOCATION:https://moodle3.unistra.fr/course/view.php?id=13397
END:VEVENT
END:VCALENDAR