BEGIN:VCALENDAR
VERSION:2.0
PRODID:-//Idip - ECPv6.15.20//NONSGML v1.0//EN
CALSCALE:GREGORIAN
METHOD:PUBLISH
X-WR-CALNAME:Idip
X-ORIGINAL-URL:https://idip.unistra.fr
X-WR-CALDESC:Évènements pour Idip
REFRESH-INTERVAL;VALUE=DURATION:PT1H
X-Robots-Tag:noindex
X-PUBLISHED-TTL:PT1H
BEGIN:VTIMEZONE
TZID:Europe/Paris
BEGIN:DAYLIGHT
TZOFFSETFROM:+0100
TZOFFSETTO:+0200
TZNAME:CEST
DTSTART:20190331T010000
END:DAYLIGHT
BEGIN:STANDARD
TZOFFSETFROM:+0200
TZOFFSETTO:+0100
TZNAME:CET
DTSTART:20191027T010000
END:STANDARD
BEGIN:DAYLIGHT
TZOFFSETFROM:+0100
TZOFFSETTO:+0200
TZNAME:CEST
DTSTART:20200329T010000
END:DAYLIGHT
BEGIN:STANDARD
TZOFFSETFROM:+0200
TZOFFSETTO:+0100
TZNAME:CET
DTSTART:20201025T010000
END:STANDARD
BEGIN:DAYLIGHT
TZOFFSETFROM:+0100
TZOFFSETTO:+0200
TZNAME:CEST
DTSTART:20210328T010000
END:DAYLIGHT
BEGIN:STANDARD
TZOFFSETFROM:+0200
TZOFFSETTO:+0100
TZNAME:CET
DTSTART:20211031T010000
END:STANDARD
END:VTIMEZONE
BEGIN:VEVENT
DTSTART;TZID=Europe/Paris:20200604T130000
DTEND;TZID=Europe/Paris:20200604T153000
DTSTAMP:20260422T160556
CREATED:20200526T091220Z
LAST-MODIFIED:20200526T091220Z
UID:4841-1591275600-1591284600@idip.unistra.fr
SUMMARY:Stammtisch : Faisons le point\, comment allez-vous ?
DESCRIPTION:Dans cette période de confinement pédagogique\, le bien-être et le lien social sont des préoccupations essentielles de chacun.\nAfin de limiter le sentiment d’isolement\, nous vous invitons à ce Stammtisch spécial “Blabla pédagogique”\, avec des temps d’échange en petits groupes pour permettre à chacun de s’exprimer librement.\nComment vivez-vous cette période ? Quelles sont vos préoccupations ?\nQuelles réussites et succès pédagogiques voulez-vous partager avec vos collègues ?\nQuel bilan faites-vous sur vos besoins en termes d’enseignement et d’interaction avec les étudiants et vos collègues ?\nVenez partager votre vécu\, soutenir et inspirer vos collègues.
URL:https://idip.unistra.fr/event/stammtisch-faisons-le-point-comment-allez-vous/
END:VEVENT
END:VCALENDAR